BEGIN:VCALENDAR
VERSION:2.0
PRODID:-//hacksw/handcal//NONSGML v1.0//EN
BEGIN:VEVENT
SUMMARY:LCH F - ASCH
UID:1ef0b76e-ca3b-4cff-8b49-68da405366ef
DTSTART:20260430T173000Z
DTEND:20260430T220000Z
LOCATION:Localisation   
CATEGORIES:Sportif
STATUS:
DESCRIPTION:<p>Departementale Feminine Seniors - Division 2</p>
URL;VALUE=URI:https://lchbasket.sportsregions.fr/evenements/2026/04/30/lch-f-asch-2312675
END:VEVENT
END:VCALENDAR
