BEGIN:VCALENDAR
VERSION:2.0
PRODID:-//hacksw/handcal//NONSGML v1.0//EN
BEGIN:VEVENT
SUMMARY:STAGE 100% BASKETBALL
UID:43a50308-3fd7-4eb5-a77d-9d6cdac571b4
DTSTART:20260420T070000Z
DTEND:20260424T143000Z
LOCATION:Localisation   
CATEGORIES:Stage
STATUS:
DESCRIPTION:<p>Ouvert aux U13 a U18 (sur inscription) et encadre par
 Kevin Franchemiche</p>
 
 <p>Salle Henri Changeur</p>
 
 <p>Accueil des
 08h45, repas du midi possible sur place (prevoir son repas)</p>
URL;VALUE=URI:https://lchbasket.sportsregions.fr/evenements/2026/04/20/stage-100-basketball-2429054
END:VEVENT
END:VCALENDAR
